BEGIN:VCALENDAR
VERSION:2.0
PRODID:-//tagsieben - ECPv6.2.9//NONSGML v1.0//EN
CALSCALE:GREGORIAN
METHOD:PUBLISH
X-WR-CALNAME:tagsieben
X-ORIGINAL-URL:https://www.tagsieben.com
X-WR-CALDESC:Veranstaltungen für tagsieben
REFRESH-INTERVAL;VALUE=DURATION:PT1H
X-Robots-Tag:noindex
X-PUBLISHED-TTL:PT1H
BEGIN:VTIMEZONE
TZID:Europe/Vienna
BEGIN:DAYLIGHT
TZOFFSETFROM:+0100
TZOFFSETTO:+0200
TZNAME:CEST
DTSTART:20200329T010000
END:DAYLIGHT
BEGIN:STANDARD
TZOFFSETFROM:+0200
TZOFFSETTO:+0100
TZNAME:CET
DTSTART:20201025T010000
END:STANDARD
BEGIN:DAYLIGHT
TZOFFSETFROM:+0100
TZOFFSETTO:+0200
TZNAME:CEST
DTSTART:20210328T010000
END:DAYLIGHT
BEGIN:STANDARD
TZOFFSETFROM:+0200
TZOFFSETTO:+0100
TZNAME:CET
DTSTART:20211031T010000
END:STANDARD
BEGIN:DAYLIGHT
TZOFFSETFROM:+0100
TZOFFSETTO:+0200
TZNAME:CEST
DTSTART:20220327T010000
END:DAYLIGHT
BEGIN:STANDARD
TZOFFSETFROM:+0200
TZOFFSETTO:+0100
TZNAME:CET
DTSTART:20221030T010000
END:STANDARD
BEGIN:DAYLIGHT
TZOFFSETFROM:+0100
TZOFFSETTO:+0200
TZNAME:CEST
DTSTART:20230326T010000
END:DAYLIGHT
BEGIN:STANDARD
TZOFFSETFROM:+0200
TZOFFSETTO:+0100
TZNAME:CET
DTSTART:20231029T010000
END:STANDARD
BEGIN:DAYLIGHT
TZOFFSETFROM:+0100
TZOFFSETTO:+0200
TZNAME:CEST
DTSTART:20240331T010000
END:DAYLIGHT
BEGIN:STANDARD
TZOFFSETFROM:+0200
TZOFFSETTO:+0100
TZNAME:CET
DTSTART:20241027T010000
END:STANDARD
BEGIN:DAYLIGHT
TZOFFSETFROM:+0100
TZOFFSETTO:+0200
TZNAME:CEST
DTSTART:20250330T010000
END:DAYLIGHT
BEGIN:STANDARD
TZOFFSETFROM:+0200
TZOFFSETTO:+0100
TZNAME:CET
DTSTART:20251026T010000
END:STANDARD
BEGIN:DAYLIGHT
TZOFFSETFROM:+0100
TZOFFSETTO:+0200
TZNAME:CEST
DTSTART:20260329T010000
END:DAYLIGHT
BEGIN:STANDARD
TZOFFSETFROM:+0200
TZOFFSETTO:+0100
TZNAME:CET
DTSTART:20261025T010000
END:STANDARD
END:VTIMEZONE
BEGIN:VEVENT
DTSTART;TZID=Europe/Vienna:20260321T190000
DTEND;TZID=Europe/Vienna:20260321T210000
DTSTAMP:20260420T144811
CREATED:20250925T194028Z
LAST-MODIFIED:20250925T194028Z
UID:5368-1774119600-1774126800@www.tagsieben.com
SUMMARY:Vorfreude mit tag7 - Chemnitz
DESCRIPTION:
URL:https://www.tagsieben.com/event/vorfreude-mit-tag7-chemnitz
LOCATION:Adventgemeinde Chemnitz\, Hans-Sachs-Straße 9\, Chemnitz\, 09126\, Deutschland
ATTACH;FMTTYPE=image/png:https://www.tagsieben.com/wp-content/uploads/2023/09/Cover_Vorfreude-e1696799473800.png
END:VEVENT
BEGIN:VEVENT
DTSTART;TZID=Europe/Vienna:20260307T190000
DTEND;TZID=Europe/Vienna:20260307T210000
DTSTAMP:20260420T144811
CREATED:20250630T073106Z
LAST-MODIFIED:20250630T073106Z
UID:5358-1772910000-1772917200@www.tagsieben.com
SUMMARY:Vorfreude mit tag7 - Gifhorn
DESCRIPTION:
URL:https://www.tagsieben.com/event/vorfreude-mit-tag7-gifhorn
LOCATION:Adventgemeinde Gifhorn\, Celler Straße 12\, Gifhorn\, Niedersachsen\, 38518\, Deutschland
ATTACH;FMTTYPE=image/png:https://www.tagsieben.com/wp-content/uploads/2023/09/Cover_Vorfreude-e1696799473800.png
END:VEVENT
BEGIN:VEVENT
DTSTART;TZID=Europe/Vienna:20260228T190000
DTEND;TZID=Europe/Vienna:20260228T210000
DTSTAMP:20260420T144811
CREATED:20251124T121655Z
LAST-MODIFIED:20251124T121655Z
UID:5380-1772305200-1772312400@www.tagsieben.com
SUMMARY:Vorfreude mit tag7 - München
DESCRIPTION:
URL:https://www.tagsieben.com/event/vorfreude-mit-tag7-muenchen-2
LOCATION:Adventgemeinde München-Pasing\, Bodenseestraße 61\, München\, 81243\, Deutschland
ATTACH;FMTTYPE=image/png:https://www.tagsieben.com/wp-content/uploads/2023/09/Cover_Vorfreude-e1696799473800.png
END:VEVENT
BEGIN:VEVENT
DTSTART;TZID=Europe/Vienna:20251108T190000
DTEND;TZID=Europe/Vienna:20251108T210000
DTSTAMP:20260420T144811
CREATED:20250107T154702Z
LAST-MODIFIED:20250107T154822Z
UID:5345-1762628400-1762635600@www.tagsieben.com
SUMMARY:Vorfreude mit tag7 - Bad Bergzabern
DESCRIPTION:
URL:https://www.tagsieben.com/event/vorfreude-mit-tag7-bad-bergzabern
LOCATION:Adventgemeinde Bad Bergzabern\, Auf dem Viertel 2\, Bad Bergzabern\, 76887\, Deutschland
ATTACH;FMTTYPE=image/png:https://www.tagsieben.com/wp-content/uploads/2023/09/Cover_Vorfreude-e1696799473800.png
END:VEVENT
BEGIN:VEVENT
DTSTART;TZID=Europe/Vienna:20251025T190000
DTEND;TZID=Europe/Vienna:20251025T210000
DTSTAMP:20260420T144811
CREATED:20250107T154445Z
LAST-MODIFIED:20250107T154445Z
UID:5343-1761418800-1761426000@www.tagsieben.com
SUMMARY:Vorfreude mit tag7 - Schweinfurt
DESCRIPTION:
URL:https://www.tagsieben.com/event/vorfreude-mit-tag7-schweinfurt
LOCATION:Adventgemeinde Schweinfurt\, Roßbrunnstraße 20\, Schweinfurt\, 97421\, Deutschland
ATTACH;FMTTYPE=image/png:https://www.tagsieben.com/wp-content/uploads/2023/09/Cover_Vorfreude-e1696799473800.png
END:VEVENT
BEGIN:VEVENT
DTSTART;TZID=Europe/Vienna:20251011T190000
DTEND;TZID=Europe/Vienna:20251011T210000
DTSTAMP:20260420T144811
CREATED:20250630T072607Z
LAST-MODIFIED:20250630T072607Z
UID:5354-1760209200-1760216400@www.tagsieben.com
SUMMARY:Vorfreude mit tag7 - Siegen
DESCRIPTION:
URL:https://www.tagsieben.com/event/vorfreude-mit-tag7-siegen
LOCATION:Adventgemeinde Siegen\, Freudenbergerstraße 376\, Siegen\, Nordrhein-Westfalen\, 57072\, Deutschland
ATTACH;FMTTYPE=image/png:https://www.tagsieben.com/wp-content/uploads/2023/09/Cover_Vorfreude-e1696799473800.png
END:VEVENT
BEGIN:VEVENT
DTSTART;TZID=Europe/Vienna:20250913T190000
DTEND;TZID=Europe/Vienna:20250913T210000
DTSTAMP:20260420T144811
CREATED:20250910T170918Z
LAST-MODIFIED:20250910T170945Z
UID:5364-1757790000-1757797200@www.tagsieben.com
SUMMARY:Vorfreude mit tag7 - Kassel
DESCRIPTION:
URL:https://www.tagsieben.com/event/vorfreude-mit-tag7-kassel
LOCATION:Adventgemeinde Kassel\, Schönfelder Str. 34\, Kassel\, 34121\, Deutschland
ATTACH;FMTTYPE=image/png:https://www.tagsieben.com/wp-content/uploads/2023/09/Cover_Vorfreude-e1696799473800.png
END:VEVENT
BEGIN:VEVENT
DTSTART;TZID=Europe/Vienna:20250705T160000
DTEND;TZID=Europe/Vienna:20250705T180000
DTSTAMP:20260420T144811
CREATED:20250107T153700Z
LAST-MODIFIED:20250107T153700Z
UID:5333-1751731200-1751738400@www.tagsieben.com
SUMMARY:Vorfreude mit tag7 - Sternberg
DESCRIPTION:
URL:https://www.tagsieben.com/event/vorfreude-mit-tag7-sternberg
LOCATION:Ev.-Luth. Kirchengemeinde Sternberg\, Mühlenstraße 4\, Sternberg\, 19406\, Deutschland
ATTACH;FMTTYPE=image/png:https://www.tagsieben.com/wp-content/uploads/2023/09/Cover_Vorfreude-e1696799473800.png
END:VEVENT
BEGIN:VEVENT
DTSTART;TZID=Europe/Vienna:20250628T190000
DTEND;TZID=Europe/Vienna:20250628T210000
DTSTAMP:20260420T144811
CREATED:20250107T154319Z
LAST-MODIFIED:20250107T154319Z
UID:5341-1751137200-1751144400@www.tagsieben.com
SUMMARY:Vorfreude mit tag7 - Augsburg
DESCRIPTION:
URL:https://www.tagsieben.com/event/vorfreude-mit-tag7-augsburg
LOCATION:Adventgemeinde Augsburg\, Alte Gasse 13\, Augsburg\, Bayern\, 86152\, Deutschland
ATTACH;FMTTYPE=image/png:https://www.tagsieben.com/wp-content/uploads/2023/09/Cover_Vorfreude-e1696799473800.png
END:VEVENT
BEGIN:VEVENT
DTSTART;TZID=Europe/Vienna:20250524T180000
DTEND;TZID=Europe/Vienna:20250524T200000
DTSTAMP:20260420T144811
CREATED:20250107T154227Z
LAST-MODIFIED:20250305T204950Z
UID:5337-1748109600-1748116800@www.tagsieben.com
SUMMARY:Vorfreude mit tag7 - Neuburg a.d. Donau
DESCRIPTION:
URL:https://www.tagsieben.com/event/vorfreude-mit-tag7-neuburg-a-d-donau
LOCATION:Adventgemeinde Neuburg a.d. Donau\, Donauwörther Str. 85b\, Neuburg an der Donau\, 86633\, Deutschland
ATTACH;FMTTYPE=image/png:https://www.tagsieben.com/wp-content/uploads/2023/09/Cover_Vorfreude-e1696799473800.png
END:VEVENT
BEGIN:VEVENT
DTSTART;TZID=Europe/Vienna:20250517T150000
DTEND;TZID=Europe/Vienna:20250517T170000
DTSTAMP:20260420T144811
CREATED:20250107T153249Z
LAST-MODIFIED:20250512T192419Z
UID:5330-1747494000-1747501200@www.tagsieben.com
SUMMARY:Vorfreude mit tag7 - Darmstadt/Marienhöhe
DESCRIPTION:
URL:https://www.tagsieben.com/event/vorfreude-mit-tag7-darmstadt-marienhoehe
LOCATION:Adventgemeinde Darmstadt-Marienhöhe\, Auf der Marienhöhe 57\, Darmstadt\, 64297\, Deutschland
ATTACH;FMTTYPE=image/png:https://www.tagsieben.com/wp-content/uploads/2023/09/Cover_Vorfreude-e1696799473800.png
END:VEVENT
BEGIN:VEVENT
DTSTART;TZID=Europe/Vienna:20250201T193000
DTEND;TZID=Europe/Vienna:20250201T213000
DTSTAMP:20260420T144811
CREATED:20250107T152939Z
LAST-MODIFIED:20250107T152939Z
UID:5326-1738438200-1738445400@www.tagsieben.com
SUMMARY:Vorfreude mit tag7 - Friedensau
DESCRIPTION:
URL:https://www.tagsieben.com/event/vorfreude-mit-tag7-friedensau
LOCATION:Kapelle der Theologischen Hochschule Friedensau\, An der Ihle 5\, Friedensau\, 39291\, Deutschland
ATTACH;FMTTYPE=image/png:https://www.tagsieben.com/wp-content/uploads/2023/09/Cover_Vorfreude-e1696799473800.png
END:VEVENT
BEGIN:VEVENT
DTSTART;TZID=Europe/Vienna:20241130T170000
DTEND;TZID=Europe/Vienna:20241130T190000
DTSTAMP:20260420T144811
CREATED:20240210T213749Z
LAST-MODIFIED:20241130T092221Z
UID:5313-1732986000-1732993200@www.tagsieben.com
SUMMARY:Vorfreude mit tag7 - Müllheim
DESCRIPTION:
URL:https://www.tagsieben.com/event/vorfreude-mit-tag7-muellheim
LOCATION:Martinskirche Müllheim\, Wilhelmstraße 14\, Müllheim\, Baden-Württemberg\, 79379\, Deutschland
ATTACH;FMTTYPE=image/png:https://www.tagsieben.com/wp-content/uploads/2023/09/Cover_Vorfreude-e1696799473800.png
END:VEVENT
BEGIN:VEVENT
DTSTART;TZID=Europe/Vienna:20241109T190000
DTEND;TZID=Europe/Vienna:20241109T210000
DTSTAMP:20260420T144811
CREATED:20240210T213348Z
LAST-MODIFIED:20240210T213348Z
UID:5309-1731178800-1731186000@www.tagsieben.com
SUMMARY:Vorfreude mit tag7 - Frankfurt
DESCRIPTION:
URL:https://www.tagsieben.com/event/vorfreude-mit-tag7-frankfurt
LOCATION:Adventgemeinde Frankfurt-Mitte\, Eschenheimer Anlage 32\, Frankfurt am Main\, Hessen\, 60318\, Deutschland
ATTACH;FMTTYPE=image/png:https://www.tagsieben.com/wp-content/uploads/2023/09/Cover_Vorfreude-e1696799473800.png
END:VEVENT
BEGIN:VEVENT
DTSTART;TZID=Europe/Vienna:20241012T190000
DTEND;TZID=Europe/Vienna:20241012T190000
DTSTAMP:20260420T144811
CREATED:20231231T102851Z
LAST-MODIFIED:20240210T212529Z
UID:5273-1728759600-1728759600@www.tagsieben.com
SUMMARY:Vorfreude mit tag7 - Zürich
DESCRIPTION:
URL:https://www.tagsieben.com/event/vorfreude-mit-tag7-zuerich
LOCATION:Adventgemeinde Zürich-Wolfswinkel\, Wolfswinkel 36\, Zürich\, 8046\, Schweiz
ATTACH;FMTTYPE=image/png:https://www.tagsieben.com/wp-content/uploads/2023/09/Cover_Vorfreude-e1696799473800.png
END:VEVENT
BEGIN:VEVENT
DTSTART;TZID=Europe/Vienna:20240928T190000
DTEND;TZID=Europe/Vienna:20240928T210000
DTSTAMP:20260420T144811
CREATED:20240210T213106Z
LAST-MODIFIED:20240210T213106Z
UID:5305-1727550000-1727557200@www.tagsieben.com
SUMMARY:Vorfreude mit tag7 - Bietigheim
DESCRIPTION:
URL:https://www.tagsieben.com/event/vorfreude-mit-tag7-bietigheim
LOCATION:Adventgemeinde Bietigheim\, Sudetenstraße 2\, Bietigheim-Bissingen\, Baden-Württemberg\, 74321\, Deutschland
ATTACH;FMTTYPE=image/png:https://www.tagsieben.com/wp-content/uploads/2023/09/Cover_Vorfreude-e1696799473800.png
END:VEVENT
BEGIN:VEVENT
DTSTART;TZID=Europe/Vienna:20240420T190000
DTEND;TZID=Europe/Vienna:20240420T210000
DTSTAMP:20260420T144811
CREATED:20231231T103019Z
LAST-MODIFIED:20231231T103233Z
UID:5276-1713639600-1713646800@www.tagsieben.com
SUMMARY:Vorfreude mit tag7 - Nürnberg
DESCRIPTION:
URL:https://www.tagsieben.com/event/vorfreude-mit-tag7-nuernberg
LOCATION:Adventgemeinde Nürnberg Hohe Marter\, Aalener Straße 5\, Nürnberg\, 90441\, Deutschland
ATTACH;FMTTYPE=image/png:https://www.tagsieben.com/wp-content/uploads/2023/09/Cover_Vorfreude-e1696799473800.png
END:VEVENT
BEGIN:VEVENT
DTSTART;TZID=Europe/Vienna:20240302T190000
DTEND;TZID=Europe/Vienna:20240302T210000
DTSTAMP:20260420T144811
CREATED:20230921T204109Z
LAST-MODIFIED:20231008T210927Z
UID:5177-1709406000-1709413200@www.tagsieben.com
SUMMARY:Vorfreude mit tag7 - München
DESCRIPTION:
URL:https://www.tagsieben.com/event/vorfreude-mit-tag7-muenchen
ATTACH;FMTTYPE=image/png:https://www.tagsieben.com/wp-content/uploads/2023/09/Cover_Vorfreude-e1696799473800.png
END:VEVENT
BEGIN:VEVENT
DTSTART;TZID=Europe/Vienna:20240217T190000
DTEND;TZID=Europe/Vienna:20240217T210000
DTSTAMP:20260420T144811
CREATED:20230921T203838Z
LAST-MODIFIED:20231008T211127Z
UID:5175-1708196400-1708203600@www.tagsieben.com
SUMMARY:Vorfreude mit tag7 - Linz
DESCRIPTION:
URL:https://www.tagsieben.com/event/vorfreude-mit-tag7-linz
LOCATION:Kirche der Siebenten-Tags-Adventisten Linz\, Thanhoferstraße 13\, Linz\, Oberösterreich\, 4030\, Österreich
ATTACH;FMTTYPE=image/png:https://www.tagsieben.com/wp-content/uploads/2023/09/Cover_Vorfreude-e1696799473800.png
END:VEVENT
BEGIN:VEVENT
DTSTART;TZID=Europe/Vienna:20240127T190000
DTEND;TZID=Europe/Vienna:20240127T210000
DTSTAMP:20260420T144811
CREATED:20231122T205625Z
LAST-MODIFIED:20231122T210027Z
UID:5251-1706382000-1706389200@www.tagsieben.com
SUMMARY:Vorfreude mit tag7 – Wien
DESCRIPTION:
URL:https://www.tagsieben.com/event/vorfreude-mit-tag7-wien
LOCATION:Adventhaus Wien\, Nußdorferstraße 5\, Wien\, Wien\, 1090\, Österreich
ATTACH;FMTTYPE=image/png:https://www.tagsieben.com/wp-content/uploads/2023/09/Cover_Vorfreude-e1696799473800.png
END:VEVENT
BEGIN:VEVENT
DTSTART;TZID=Europe/Vienna:20240113T180000
DTEND;TZID=Europe/Vienna:20240113T200000
DTSTAMP:20260420T144811
CREATED:20230921T203619Z
LAST-MODIFIED:20231220T094939Z
UID:5172-1705168800-1705176000@www.tagsieben.com
SUMMARY:Vorfreude mit tag7 - Bern
DESCRIPTION:
URL:https://www.tagsieben.com/event/vorfreude-mit-tag7-bern
LOCATION:Adventgemeinde Bern\, Thunstrasse 69\, Bern\, 3006\, Schweiz
ATTACH;FMTTYPE=image/png:https://www.tagsieben.com/wp-content/uploads/2023/09/Cover_Vorfreude-e1696799473800.png
END:VEVENT
BEGIN:VEVENT
DTSTART;TZID=Europe/Vienna:20231202T190000
DTEND;TZID=Europe/Vienna:20231202T210000
DTSTAMP:20260420T144811
CREATED:20230921T203439Z
LAST-MODIFIED:20231008T211214Z
UID:5170-1701543600-1701550800@www.tagsieben.com
SUMMARY:Vorfreude mit tag7 - Schwäbisch Hall
DESCRIPTION:
URL:https://www.tagsieben.com/event/vorfreude-mit-tag7-schwaebisch-hall
LOCATION:Adventgemeinde Schwäbisch Hall\, Crailsheimer Straße 23\, Schwäbisch Hall\, 74523\, Deutschland
ATTACH;FMTTYPE=image/png:https://www.tagsieben.com/wp-content/uploads/2023/09/Cover_Vorfreude-e1696799473800.png
END:VEVENT
BEGIN:VEVENT
DTSTART;TZID=Europe/Vienna:20231104T150000
DTEND;TZID=Europe/Vienna:20231104T170000
DTSTAMP:20260420T144811
CREATED:20230921T202704Z
LAST-MODIFIED:20231008T210824Z
UID:5167-1699110000-1699117200@www.tagsieben.com
SUMMARY:Vorfreude mit tag7 - Innsbruck
DESCRIPTION:
URL:https://www.tagsieben.com/event/vorfreude-mit-tag7-telfs
LOCATION:Adventgemeinde Innsbruck\, Höttinger Gasse 12d\, Innsbruck\, 6020\, Österreich
ATTACH;FMTTYPE=image/png:https://www.tagsieben.com/wp-content/uploads/2023/09/Cover_Vorfreude-e1696799473800.png
END:VEVENT
BEGIN:VEVENT
DTSTART;TZID=Europe/Vienna:20231021T190000
DTEND;TZID=Europe/Vienna:20231021T210000
DTSTAMP:20260420T144811
CREATED:20230921T202155Z
LAST-MODIFIED:20231008T210858Z
UID:5163-1697914800-1697922000@www.tagsieben.com
SUMMARY:Vorfreude mit tag7 - Salzburg
DESCRIPTION:
URL:https://www.tagsieben.com/event/vorfreude-mit-tagsieben
LOCATION:Kirche der Siebenten-Tags-Adventisten Salzburg\, Franz-Josef-Strasse 17\, Salzburg\, Salzburg\, 5020\, Österreich
ATTACH;FMTTYPE=image/png:https://www.tagsieben.com/wp-content/uploads/2023/09/Cover_Vorfreude-e1696799473800.png
END:VEVENT
BEGIN:VEVENT
DTSTART;TZID=Europe/Vienna:20230722T190000
DTEND;TZID=Europe/Vienna:20230722T210000
DTSTAMP:20260420T144811
CREATED:20230418T191631Z
LAST-MODIFIED:20230712T092400Z
UID:5117-1690052400-1690059600@www.tagsieben.com
SUMMARY:tag7 - Vorfreude am Jugendsabbat in Schwäbisch-Gmünd (Tourauftakt)
DESCRIPTION:
URL:https://www.tagsieben.com/event/ein-augenblick-mit-tag7-3
LOCATION:Christliches Gästezentrum Schönblick\, Willy-Schenk-Straße 9\, Schwäbisch Gmünd\, 73527\, Deutschland
END:VEVENT
BEGIN:VEVENT
DTSTART;TZID=Europe/Vienna:20230331T190000
DTEND;TZID=Europe/Vienna:20230331T210000
DTSTAMP:20260420T144811
CREATED:20230117T132046Z
LAST-MODIFIED:20230206T105604Z
UID:4311-1680289200-1680296400@www.tagsieben.com
SUMMARY:Ein Augenblick mit tag7 - München Nymphenburg
DESCRIPTION:
URL:https://www.tagsieben.com/event/ein-augenblick-mit-tag7-5
LOCATION:Adventgemeinde Nymphenburg\, Tizianstraße 18\, München\, 80638\, Deutschland
ATTACH;FMTTYPE=image/jpeg:https://www.tagsieben.com/wp-content/uploads/2019/04/plakat_Augenblick_a5_Linz-e1555867457144-scaled.jpg
END:VEVENT
BEGIN:VEVENT
DTSTART;TZID=Europe/Vienna:20230303T190000
DTEND;TZID=Europe/Vienna:20230303T210000
DTSTAMP:20260420T144811
CREATED:20230117T131820Z
LAST-MODIFIED:20230206T101252Z
UID:4309-1677870000-1677877200@www.tagsieben.com
SUMMARY:Ein Augenblick mit tag7 - Salzburg
DESCRIPTION:
URL:https://www.tagsieben.com/event/ein-augenblick-mit-tag7-4
LOCATION:Kirche der Siebenten-Tags-Adventisten Salzburg\, Franz-Josef-Strasse 17\, Salzburg\, Salzburg\, 5020\, Österreich
ATTACH;FMTTYPE=image/jpeg:https://www.tagsieben.com/wp-content/uploads/2019/04/plakat_Augenblick_a5_Linz-e1555867457144-scaled.jpg
END:VEVENT
BEGIN:VEVENT
DTSTART;TZID=Europe/Vienna:20221203T190000
DTEND;TZID=Europe/Vienna:20221203T204500
DTSTAMP:20260420T144811
CREATED:20221107T143255Z
LAST-MODIFIED:20221107T144256Z
UID:4293-1670094000-1670100300@www.tagsieben.com
SUMMARY:Ein Augenblick mit tag7
DESCRIPTION:
URL:https://www.tagsieben.com/event/ein-augenblick-mit-tag7-2
LOCATION:Adventgemeinde Hohe Marter\, Aalener Straße 5\, Nürnberg\, Bayern\, 90441
ATTACH;FMTTYPE=image/jpeg:https://www.tagsieben.com/wp-content/uploads/2019/04/plakat_Augenblick_a5_Linz-e1555867457144-scaled.jpg
END:VEVENT
BEGIN:VEVENT
DTSTART;TZID=Europe/Vienna:20221105T183000
DTEND;TZID=Europe/Vienna:20221105T203000
DTSTAMP:20260420T144811
CREATED:20221105T072655Z
LAST-MODIFIED:20221107T144425Z
UID:4281-1667673000-1667680200@www.tagsieben.com
SUMMARY:Ein Augenblick mit tag7
DESCRIPTION:
URL:https://www.tagsieben.com/event/ein-augenblick-mit-tag7
LOCATION:Sternenberghalle Friesenheim\, Oberweierer Hauptstraße 79b\, Friesenheim\, 77948\, Deutschland
ATTACH;FMTTYPE=image/jpeg:https://www.tagsieben.com/wp-content/uploads/2019/04/plakat_Augenblick_a5_Linz-e1555867457144-scaled.jpg
END:VEVENT
BEGIN:VEVENT
DTSTART;TZID=Europe/Vienna:20201002T190000
DTEND;TZID=Europe/Vienna:20201002T210000
DTSTAMP:20260420T144811
CREATED:20200110T115612Z
LAST-MODIFIED:20200110T115612Z
UID:4222-1601665200-1601672400@www.tagsieben.com
SUMMARY:Ein Augenblick mit tag7 - Nürnberg
DESCRIPTION:
URL:https://www.tagsieben.com/event/ein-augenblick-mit-tag7-nuernberg
LOCATION:Adventgemeinde Nürnberg Mitte\, Hinterm Bahnhof 30\, Nürnberg\, 90459\, Deutschland
ATTACH;FMTTYPE=image/jpeg:https://www.tagsieben.com/wp-content/uploads/2019/04/plakat_Augenblick_a5_Linz-e1555867457144-scaled.jpg
END:VEVENT
END:VCALENDAR